BEGIN:VCALENDAR
VERSION:2.0
PRODID:-//Squarespace Inc/Squarespace 6//v6//EN
BEGIN:VEVENT
UID:523504c6e4b03309a864617d@squarespace.com
DTSTAMP:20130915T013513Z
DTSTART:20130918T083000Z
DTEND:20131010T080000Z
SUMMARY:Translucence - Melbourne @ Eleven40
GEO:-37.852098;145.031429
LOCATION:Translucence @ Eleven40\, 1140 Malvern Road\, Malvern\, Victoria\,
 \, Australia
END:VEVENT
END:VCALENDAR
