BEGIN:VCALENDAR
VERSION:2.0
PRODID:-//Squarespace Inc/Squarespace 6//v6//EN
BEGIN:VEVENT
UID:515f60b9e4b0715db61aa962@squarespace.com
DTSTAMP:20130915T012627Z
DTSTART:20130415T173000Z
DTEND:20130415T183000Z
SUMMARY:Translucence Sydney @ Danks Street
END:VEVENT
END:VCALENDAR
